BEGIN:VCALENDAR
VERSION:2.0
PRODID:-//The National Drug Abuse Treatment Clinical Trials Network - Northeast Node - ECPv6.15.20//NONSGML v1.0//EN
CALSCALE:GREGORIAN
METHOD:PUBLISH
X-WR-CALNAME:The National Drug Abuse Treatment Clinical Trials Network - Northeast Node
X-ORIGINAL-URL:https://www.ctnnortheastnode.org
X-WR-CALDESC:Events for The National Drug Abuse Treatment Clinical Trials Network - Northeast Node
REFRESH-INTERVAL;VALUE=DURATION:PT1H
X-Robots-Tag:noindex
X-PUBLISHED-TTL:PT1H
BEGIN:VTIMEZONE
TZID:America/New_York
BEGIN:DAYLIGHT
TZOFFSETFROM:-0500
TZOFFSETTO:-0400
TZNAME:EDT
DTSTART:20250309T070000
END:DAYLIGHT
BEGIN:STANDARD
TZOFFSETFROM:-0400
TZOFFSETTO:-0500
TZNAME:EST
DTSTART:20251102T060000
END:STANDARD
BEGIN:DAYLIGHT
TZOFFSETFROM:-0500
TZOFFSETTO:-0400
TZNAME:EDT
DTSTART:20260308T070000
END:DAYLIGHT
BEGIN:STANDARD
TZOFFSETFROM:-0400
TZOFFSETTO:-0500
TZNAME:EST
DTSTART:20261101T060000
END:STANDARD
BEGIN:DAYLIGHT
TZOFFSETFROM:-0500
TZOFFSETTO:-0400
TZNAME:EDT
DTSTART:20270314T070000
END:DAYLIGHT
BEGIN:STANDARD
TZOFFSETFROM:-0400
TZOFFSETTO:-0500
TZNAME:EST
DTSTART:20271107T060000
END:STANDARD
END:VTIMEZONE
BEGIN:VEVENT
DTSTART;TZID=America/New_York:20260310T120000
DTEND;TZID=America/New_York:20260310T130000
DTSTAMP:20260421T073506
CREATED:20260209T172907Z
LAST-MODIFIED:20260209T172907Z
UID:3440-1773144000-1773147600@www.ctnnortheastnode.org
SUMMARY:From Risk to Resilience: Developmental Influences on Youth Substance Use and Mental Health
DESCRIPTION:REGISTER NOW \nABOUT THE TRAINER: \nDr. Laura Grubb\, MD\, MPH\, FAAP is a board-certified pediatrician and adolescent \nmedicine specialist with over 25 years of experience dedicated to advancing \nadolescent behavioral health through clinical care\, public health leadership\, and \nnational advocacy. Her expertise centers on youth substance use prevention\, \ntreatment\, and recovery\, with a strong focus on implementing trauma-informed\, \nevidence-based practices. As a Subject Matter Expert for the New England ATTC \nand consultant to the Opioid Response Network\, she provides targeted technical \nassistance\, training\, and policy consultation to integrate adolescent services\, \nincluding medication for addiction treatment (MAT)\, and to build workforce \ncompetency. Her distinguished background in academic medicine\, federal \nservice\, and program development uniquely positions her to strengthen systems \nand improve outcomes in adolescent substance use care. \n  \nDESCRIPTION: \nThis training explores key developmental risk and protective factors that influence \nyouth mental health\, substance use\, and overall well-being. Participants will examine \nthe long-term impact of adverse childhood experiences (ACEs)\, the buffering role of \npositive childhood experiences (PCEs)\, and the application of trauma-informed\, \ndevelopmentally appropriate screening tools. The session also highlights evidence- \nbased strategies and public health frameworks that support early intervention\, \nresilience-building\, and prevention. \n  \nREGISTER NOW
URL:https://www.ctnnortheastnode.org/event/from-risk-to-resilience-developmental-influences-on-youth-substance-use-and-mental-health/
CATEGORIES:Other Related
END:VEVENT
BEGIN:VEVENT
DTSTART;TZID=America/New_York:20260318T120000
DTEND;TZID=America/New_York:20260318T130000
DTSTAMP:20260421T073506
CREATED:20260209T171749Z
LAST-MODIFIED:20260209T171839Z
UID:3438-1773835200-1773838800@www.ctnnortheastnode.org
SUMMARY:Vaping: Evidence\, Risks\, and Clinical Implications for Health Care and Allied Health Professionals
DESCRIPTION:REGISTER NOW \n  \nABOUT THE TRAINER: \nDr. Patricia Cioe is a dedicated clinician\, researcher\, and educator whose work \naddresses one of the most pressing health issues for vulnerable communities: \ntobacco use. As a Family Nurse Practitioner and Associate Professor at URI\, she \nbridges the gap between research and practice. Dr. Cioe’s research program is \ndedicated to smoking cessation\, with a specific focus on improving the longevity \nand quality of life for people living with HIV. She develops and tests innovative\, \npractical strategies—including financial incentives and medication management— \nto help these individuals quit smoking. Her leadership in the field of addiction \nnursing and her commitment to hands-on patient care make her a vital voice in \npublic health. \n  \nDESCRIPTION: \nThis presentation provides a comprehensive overview of vaping for health care and allied health \nprofessionals. It explores the structure and function of vaping devices\, the composition of e- \nliquids\, and current patterns of use across different populations. The session examines the short- \nand long-term health effects associated with vaping\, including respiratory\, cardiovascular\, and \nneurological risks\, as well as vaping-associated lung injury (EVALI). It also discusses the role of \nvaping in tobacco harm reduction and smoking cessation\, and offers practical approaches for \npatient screening\, education\, and counseling. \n  \nLEARNING OBJECTIVES: \nDescribe the components and mechanisms of vaping devices \nSummarize vaping epidemiology and trends \nIdentify key health risks and EVALI presentation \nEvaluate vaping and mitigate risks \nApply clinical and counseling strategies \nREGISTER NOW
URL:https://www.ctnnortheastnode.org/event/vaping-evidence-risks-and-clinical-implications-for-health-care-and-allied-health-professionals/
CATEGORIES:Other Related
END:VEVENT
BEGIN:VEVENT
DTSTART;TZID=America/New_York:20260318T120000
DTEND;TZID=America/New_York:20260318T130000
DTSTAMP:20260421T073506
CREATED:20260305T145557Z
LAST-MODIFIED:20260305T145557Z
UID:3447-1773835200-1773838800@www.ctnnortheastnode.org
SUMMARY:Bringing Contingency Management to Scale: Key Steps for Public Health Impact
DESCRIPTION:University of Vermont Center on Behavior and Health Monthly Lecture Series \nLara Coughlin\, PhD\, is an Associate Professor of Psychiatry at the University of Michigan Medical School and a licensed clinical psychologist specializing in addiction science. Her research focuses on developing and adapting evidence-based interventions—particularly contingency management and behavioral economic approaches—to improve treatment engagement and outcomes for individuals with substance use disorders. She emphasizes digital and community-engaged strategies to expand access to care and reduce mental health inequities. Dr. Coughlin co-directs Michigan Innovations in Addiction Care through Research and Education (MI-ACRE) and serves as Mental Health Equity Lead at the Eisenberg Family Depression Center. \nREGISTER FOR WEBINAR
URL:https://www.ctnnortheastnode.org/event/bringing-contingency-management-to-scale-key-steps-for-public-health-impact/
CATEGORIES:Other Related
END:VEVENT
BEGIN:VEVENT
DTSTART;TZID=America/New_York:20260320T120000
DTEND;TZID=America/New_York:20260320T130000
DTSTAMP:20260421T073506
CREATED:20260305T150728Z
LAST-MODIFIED:20260305T150728Z
UID:3448-1774008000-1774011600@www.ctnnortheastnode.org
SUMMARY:Medication and Treatment for Cannabis Use Disorder
DESCRIPTION:Join Jonathan Fellers\, MD\, for a presentation that provides an overview of Cannabis Use Disorder and reviews medications that have been evaluated in clinical trials\, including their proposed mechanisms\, efficacy\, and limitations. Participants will leave with a clearer understanding of current treatment options and greater confidence in discussing evidence-based approaches with patients. \nLearning Objectives: \n\nIdentify medications that have been studied as potential treatments for cannabis use disorder.\nEvaluate the current evidence base supporting\, or failing to support\, pharmacologic interventions for cannabis use disorder.\nIncrease confidence in offering treatment options to patients.\n\nREGISTER
URL:https://www.ctnnortheastnode.org/event/medication-and-treatment-for-cannabis-use-disorder/
CATEGORIES:Other Related
ORGANIZER;CN="Maine Substance Use Disorders Learning Community":MAILTO:info@mesudlearningcommunity.org
END:VEVENT
BEGIN:VEVENT
DTSTART;TZID=America/New_York:20260331T120000
DTEND;TZID=America/New_York:20260331T133000
DTSTAMP:20260421T073506
CREATED:20260320T153043Z
LAST-MODIFIED:20260320T153043Z
UID:3455-1774958400-1774963800@www.ctnnortheastnode.org
SUMMARY:Gambling Below the Surface: Death by Suicide
DESCRIPTION:New England Addiction Technology Transfer Webinar \nLearn about the connection between problem gambling and death by suicide\, including key risk factors such as financial strain\, relationship challenges\, and co-occurring alcohol use. Explore emerging data insights and practical implications to better inform prevention\, data collection\, and clinical support. \nClick to Register
URL:https://www.ctnnortheastnode.org/event/gambling-below-the-surface-death-by-suicide/
CATEGORIES:Other Related
END:VEVENT
END:VCALENDAR