BEGIN:VCALENDAR
VERSION:2.0
PRODID:-//The National Drug Abuse Treatment Clinical Trials Network - Northeast Node - ECPv6.15.20//NONSGML v1.0//EN
CALSCALE:GREGORIAN
METHOD:PUBLISH
X-ORIGINAL-URL:https://www.ctnnortheastnode.org
X-WR-CALDESC:Events for The National Drug Abuse Treatment Clinical Trials Network - Northeast Node
REFRESH-INTERVAL;VALUE=DURATION:PT1H
X-Robots-Tag:noindex
X-PUBLISHED-TTL:PT1H
BEGIN:VTIMEZONE
TZID:America/New_York
BEGIN:DAYLIGHT
TZOFFSETFROM:-0500
TZOFFSETTO:-0400
TZNAME:EDT
DTSTART:20230312T070000
END:DAYLIGHT
BEGIN:STANDARD
TZOFFSETFROM:-0400
TZOFFSETTO:-0500
TZNAME:EST
DTSTART:20231105T060000
END:STANDARD
BEGIN:DAYLIGHT
TZOFFSETFROM:-0500
TZOFFSETTO:-0400
TZNAME:EDT
DTSTART:20240310T070000
END:DAYLIGHT
BEGIN:STANDARD
TZOFFSETFROM:-0400
TZOFFSETTO:-0500
TZNAME:EST
DTSTART:20241103T060000
END:STANDARD
BEGIN:DAYLIGHT
TZOFFSETFROM:-0500
TZOFFSETTO:-0400
TZNAME:EDT
DTSTART:20250309T070000
END:DAYLIGHT
BEGIN:STANDARD
TZOFFSETFROM:-0400
TZOFFSETTO:-0500
TZNAME:EST
DTSTART:20251102T060000
END:STANDARD
END:VTIMEZONE
BEGIN:VEVENT
DTSTART;TZID=America/New_York:20240308T120000
DTEND;TZID=America/New_York:20240308T130000
DTSTAMP:20260422T092259
CREATED:20240301T144426Z
LAST-MODIFIED:20240301T144426Z
UID:3314-1709899200-1709902800@www.ctnnortheastnode.org
SUMMARY:Treating Adolescents with Substance Use Disorder
DESCRIPTION:Presenter: Marc Fishman\, MD \nTarget Audience: This activity was developed to meet the needs of physicians and interprofessional healthcare providers. \nDiscussion is designed to promote interactivity through an informal “round table” conversation. Attendees will be given the opportunity to speak directly with the presenter to ask questions and discuss issues. \nRegister now
URL:https://www.ctnnortheastnode.org/event/treating-adolescents-with-substance-use-disorder/
CATEGORIES:Other Related
END:VEVENT
BEGIN:VEVENT
DTSTART;TZID=America/New_York:20240319T150000
DTEND;TZID=America/New_York:20240319T160000
DTSTAMP:20260422T092259
CREATED:20240312T181826Z
LAST-MODIFIED:20240312T181826Z
UID:3315-1710860400-1710864000@www.ctnnortheastnode.org
SUMMARY:Improving Continuity of Care for Justice-Involved Individuals: Lessons from the Field
DESCRIPTION:Presenters: \n\nEd Hayes\, Assistant Superintendent at Franklin County Sheriff’s Office\, Administrative Director of the FCSO OTP\nRachel Katz\, NP Director\, Addiction Services\, Friends of the Homeless (FOH)\, Medical Respite\, CNP\n\nSponsor: National Council for Mental Wellbeing–NCMW \nCredit designational available: none \nTarget Audience: Administrative staff\, counselors\, interprofessional teams\, psychologists\, social workers \nAbout the webinar: Transitioning from jails and prisons back into the community can be especially difficult for people with opioid use disorders (OUD). Research suggests that opioid use overdose increases dramatically within the first 30 days of citizens returning to the community. Further\, individuals recently released from incarceration face a risk of opioid overdose ten times greater than the general public. During these transitions\, it is critical that people receive seamless and appropriate resources to prevent overdose and return to use. This proper transition can help lower healthcare costs\, hospitalizations and emergency department visits\, as well as decrease mortality and recidivism for justice-involved individuals. Yet at this time\, only 13 states have sought Medicaid waivers to provide SUD services pre-release. Join us today as we explore how programs can successfully develop services to ensure returning citizens receive appropriate care to address OUD. \nEducational objectives: \n\nReview the context of opioid crisis and its intersection with the jails and prisons.\nExamine the components of a successful jail-based opioid treatment program.\nDiscuss continuity of care planning for patients reentering the community from incarceration with OUD.\nDescribe a program that collaborates with community health care collaborators.\n\nRegister Now
URL:https://www.ctnnortheastnode.org/event/improving-continuity-of-care-for-justice-involved-individuals-lessons-from-the-field/
CATEGORIES:Other Related
END:VEVENT
END:VCALENDAR