BEGIN:VCALENDAR
VERSION:2.0
PRODID:-//The National Drug Abuse Treatment Clinical Trials Network - Northeast Node - ECPv6.15.20//NONSGML v1.0//EN
CALSCALE:GREGORIAN
METHOD:PUBLISH
X-WR-CALNAME:The National Drug Abuse Treatment Clinical Trials Network - Northeast Node
X-ORIGINAL-URL:https://www.ctnnortheastnode.org
X-WR-CALDESC:Events for The National Drug Abuse Treatment Clinical Trials Network - Northeast Node
REFRESH-INTERVAL;VALUE=DURATION:PT1H
X-Robots-Tag:noindex
X-PUBLISHED-TTL:PT1H
BEGIN:VTIMEZONE
TZID:America/New_York
BEGIN:DAYLIGHT
TZOFFSETFROM:-0500
TZOFFSETTO:-0400
TZNAME:EDT
DTSTART:20170312T070000
END:DAYLIGHT
BEGIN:STANDARD
TZOFFSETFROM:-0400
TZOFFSETTO:-0500
TZNAME:EST
DTSTART:20171105T060000
END:STANDARD
BEGIN:DAYLIGHT
TZOFFSETFROM:-0500
TZOFFSETTO:-0400
TZNAME:EDT
DTSTART:20180311T070000
END:DAYLIGHT
BEGIN:STANDARD
TZOFFSETFROM:-0400
TZOFFSETTO:-0500
TZNAME:EST
DTSTART:20181104T060000
END:STANDARD
BEGIN:DAYLIGHT
TZOFFSETFROM:-0500
TZOFFSETTO:-0400
TZNAME:EDT
DTSTART:20190310T070000
END:DAYLIGHT
BEGIN:STANDARD
TZOFFSETFROM:-0400
TZOFFSETTO:-0500
TZNAME:EST
DTSTART:20191103T060000
END:STANDARD
END:VTIMEZONE
BEGIN:VEVENT
DTSTART;TZID=America/New_York:20180817T080000
DTEND;TZID=America/New_York:20180817T170000
DTSTAMP:20260420T071613
CREATED:20180717T171602Z
LAST-MODIFIED:20180717T171602Z
UID:982-1534492800-1534525200@www.ctnnortheastnode.org
SUMMARY:FREE 8-Hour MAT Waiver Course
DESCRIPTION:The New Hampshire & Vermont Medical Societies\, NH Bureau of Drug and Alcohol Services\, New England ATTC\, American Academy of Addiction Psychiatry and Anthem Blue Cross Blue Shield are pleased to offer a FREE buprenorphine waiver course at Cheshire Medical Center\, Dartmouth Hitchcock Keene. \n\nAvailable for physicians\, APRNs & PAs interested in seeking their waiver to prescribe buprenorphine in the treatment of opioid use disorders.\n8 AMA PRA Category 1 credits and a Buprenorphine Training Completion Certificate will be awarded to those who complete all 8 hours of the course.\nThis course has been approved by the NH Board of Medicine as CME that fulfills the opioid prescribing competency.\n\nThis event is limited to 50 registrants\, so be sure to reserve your spot! \nFor further information or questions\, please contact: \nJoy Potter\nNew Hampshire Medical Society\n603-224-1909\njoy.potter@nhms.org
URL:https://www.ctnnortheastnode.org/event/free-8-hour-mat-waiver-course/
LOCATION:Cheshire Medical Center\, Dartmouth Hitchcock-Keene\, 580 Court Street\, Keene\, NH\, 03431\, United States
CATEGORIES:Other Related
END:VEVENT
END:VCALENDAR