BEGIN:VCALENDAR
VERSION:2.0
PRODID:-//The National Drug Abuse Treatment Clinical Trials Network - Northeast Node - ECPv6.15.20//NONSGML v1.0//EN
CALSCALE:GREGORIAN
METHOD:PUBLISH
X-WR-CALNAME:The National Drug Abuse Treatment Clinical Trials Network - Northeast Node
X-ORIGINAL-URL:https://www.ctnnortheastnode.org
X-WR-CALDESC:Events for The National Drug Abuse Treatment Clinical Trials Network - Northeast Node
REFRESH-INTERVAL;VALUE=DURATION:PT1H
X-Robots-Tag:noindex
X-PUBLISHED-TTL:PT1H
BEGIN:VTIMEZONE
TZID:America/New_York
BEGIN:DAYLIGHT
TZOFFSETFROM:-0500
TZOFFSETTO:-0400
TZNAME:EDT
DTSTART:20170312T070000
END:DAYLIGHT
BEGIN:STANDARD
TZOFFSETFROM:-0400
TZOFFSETTO:-0500
TZNAME:EST
DTSTART:20171105T060000
END:STANDARD
BEGIN:DAYLIGHT
TZOFFSETFROM:-0500
TZOFFSETTO:-0400
TZNAME:EDT
DTSTART:20180311T070000
END:DAYLIGHT
BEGIN:STANDARD
TZOFFSETFROM:-0400
TZOFFSETTO:-0500
TZNAME:EST
DTSTART:20181104T060000
END:STANDARD
BEGIN:DAYLIGHT
TZOFFSETFROM:-0500
TZOFFSETTO:-0400
TZNAME:EDT
DTSTART:20190310T070000
END:DAYLIGHT
BEGIN:STANDARD
TZOFFSETFROM:-0400
TZOFFSETTO:-0500
TZNAME:EST
DTSTART:20191103T060000
END:STANDARD
END:VTIMEZONE
BEGIN:VEVENT
DTSTART;TZID=America/New_York:20180609T080000
DTEND;TZID=America/New_York:20180714T170000
DTSTAMP:20260422T044001
CREATED:20180328T155654Z
LAST-MODIFIED:20180328T155654Z
UID:885-1528531200-1531587600@www.ctnnortheastnode.org
SUMMARY:The College on Drug Problems of Drug Dependence (CPDD) Annual Scientific Meeting
DESCRIPTION:
URL:https://www.ctnnortheastnode.org/event/college-drug-problems-drug-dependence-cpdd-annual-scientific-meeting/
LOCATION:Hilton San Diego Bayfront\, San Diego\, CA\, 1 Park Blvd\, San Diego\, CA\, 92101\, United States
END:VEVENT
BEGIN:VEVENT
DTSTART;TZID=America/New_York:20180719T150000
DTEND;TZID=America/New_York:20180719T160000
DTSTAMP:20260422T044001
CREATED:20180718T142810Z
LAST-MODIFIED:20180718T142810Z
UID:989-1532012400-1532016000@www.ctnnortheastnode.org
SUMMARY:American Dental Association Webinar: Opioids: Current Status of the Crisis\, Response\, and Future Directions
DESCRIPTION:Presenter(s): Scott Winiecki\, MD\, Team Lead\, Center for Drug Evaluation and Research\, Professional Affairs and Stakeholder Engagement Staff\, Safe Use Team\, Food and Drug Administration (FDA) \nAbout the webinar: This webinar will focus on the current state of the opioid crisis\, including deaths from prescription and illicit opioids\, prescribing trends\, and steps being taken to address the crisis. The role of the FDA and state Prescription Drug Monitoring Programs will be discussed. Recent publications on appropriate prescribing as related to dentistry will be reviewed. Future actions\, as recommended by several expert panels\, will be presented. Finally\, the webinar will cover safe disposal of unused medication\, in order to decrease the risk of diversion and misuse. \nEducational objectives: \nReview the current scope of the opioid crisis\nDiscuss FDA’s priorities and actions related to opioids\nDiscuss recent publications on opioids that relate to dentistry\nDiscuss the findings of several recent expert panels\nReview safe disposal of unused medications \nThe American Dental Association is an ADA CERP recognized provider. This program offers 1 hour of continuing education. Please note this program does not qualify for CME units.
URL:https://www.ctnnortheastnode.org/event/american-dental-association-webinar-opioids-current-status-crisis-response-future-directions/
LOCATION:Web-Based
CATEGORIES:Other Related
END:VEVENT
END:VCALENDAR