BEGIN:VCALENDAR
VERSION:2.0
PRODID:-//The National Drug Abuse Treatment Clinical Trials Network - Northeast Node - ECPv6.15.20//NONSGML v1.0//EN
CALSCALE:GREGORIAN
METHOD:PUBLISH
X-WR-CALNAME:The National Drug Abuse Treatment Clinical Trials Network - Northeast Node
X-ORIGINAL-URL:https://www.ctnnortheastnode.org
X-WR-CALDESC:Events for The National Drug Abuse Treatment Clinical Trials Network - Northeast Node
REFRESH-INTERVAL;VALUE=DURATION:PT1H
X-Robots-Tag:noindex
X-PUBLISHED-TTL:PT1H
BEGIN:VTIMEZONE
TZID:America/New_York
BEGIN:DAYLIGHT
TZOFFSETFROM:-0500
TZOFFSETTO:-0400
TZNAME:EDT
DTSTART:20160313T070000
END:DAYLIGHT
BEGIN:STANDARD
TZOFFSETFROM:-0400
TZOFFSETTO:-0500
TZNAME:EST
DTSTART:20161106T060000
END:STANDARD
BEGIN:DAYLIGHT
TZOFFSETFROM:-0500
TZOFFSETTO:-0400
TZNAME:EDT
DTSTART:20170312T070000
END:DAYLIGHT
BEGIN:STANDARD
TZOFFSETFROM:-0400
TZOFFSETTO:-0500
TZNAME:EST
DTSTART:20171105T060000
END:STANDARD
BEGIN:DAYLIGHT
TZOFFSETFROM:-0500
TZOFFSETTO:-0400
TZNAME:EDT
DTSTART:20180311T070000
END:DAYLIGHT
BEGIN:STANDARD
TZOFFSETFROM:-0400
TZOFFSETTO:-0500
TZNAME:EST
DTSTART:20181104T060000
END:STANDARD
END:VTIMEZONE
BEGIN:VEVENT
DTSTART;VALUE=DATE:20171101
DTEND;VALUE=DATE:20171102
DTSTAMP:20260424T130821
CREATED:20170727T151044Z
LAST-MODIFIED:20170727T151044Z
UID:541-1509494400-1509580799@www.ctnnortheastnode.org
SUMMARY:SAMHSA Recovery Month Webinar: 2017 Road To Recovery Showcase
DESCRIPTION:This episode will feature footage\, photos\, and interviews of participants from nationwide events as individuals\, families\, and entire communities celebrate National Recovery Month\, including the 2017 kickoff news conference and National Recovery Month luncheon.  These community events are the cornerstone of National Recovery Month and involve educating\, mentoring\, and engaging others in supporting recovery.  In addition\, the episode will highlight the positive and affirming message realized by millions of Americans:  Behavioral health is essential to health\, prevention works\, treatment is effective\, and people recover.
URL:https://www.ctnnortheastnode.org/event/samhsa-recovery-month-webinar-2017-road-recovery-showcase/
CATEGORIES:Other Related
END:VEVENT
BEGIN:VEVENT
DTSTART;TZID=America/New_York:20171108T150000
DTEND;TZID=America/New_York:20171108T160000
DTSTAMP:20260424T130821
CREATED:20170727T151010Z
LAST-MODIFIED:20170727T151010Z
UID:553-1510153200-1510156800@www.ctnnortheastnode.org
SUMMARY:NAADAC Webinar: Neurocounceling
DESCRIPTION:Neurocounseling is a relatively new approach in addiction treatment that has been shown to be effective for a variety of addiction related issues including recovery management and relapse prevention. Neurocounseling is based on the fact that behavioral and psychological symptoms have underlying neurological foundations. Addiction counselors can help clients bridge the gap between brain and behavior by becoming “brain-wise” and using neurocounseling interventions that target recovery and relapse prevention. This webinar will cover the basics of neurocounseling and highlight two interventions that addiction counselors can use in their practice. \nLearning Objectives\n\nIdentify the basics of neurocounseling and how to incorporate neurocounseling interventions into their practice.\nExamine two specific neurocounseling recovery and relapse prevention interventions to use with clients.\nAssess the effectiveness of neurocounseling interventions used with clients.\n\n 
URL:https://www.ctnnortheastnode.org/event/naadac-webinar-neurocounceling/
CATEGORIES:Other Related
END:VEVENT
BEGIN:VEVENT
DTSTART;TZID=America/New_York:20171108T150000
DTEND;TZID=America/New_York:20171108T160000
DTSTAMP:20260424T130821
CREATED:20170727T151027Z
LAST-MODIFIED:20170727T151027Z
UID:552-1510153200-1510156800@www.ctnnortheastnode.org
SUMMARY:NAADAC Webinar: Applying Emotional Intelligence to Recovery
DESCRIPTION:The ability to deal effectively with emotions is critical to success in recovery. Gain a greater understanding of the importance of emotional intelligence\, how to use it with clients\, how to model responses to address difficult situations\, and teach skill building exercises by attending this webinar. \nLearning Objectives\n\nRecognize and understand the five competencies for building emotional intelligence.\nGain practical tools and skills for communicating effectively\, assertively\, and collaboratively.\nLearn how to choose perceptions and behaviors that will lead to positive outcomes.
URL:https://www.ctnnortheastnode.org/event/naadac-webinar-applying-emotional-intelligence-recovery/
CATEGORIES:Other Related
END:VEVENT
BEGIN:VEVENT
DTSTART;TZID=America/New_York:20171116T120000
DTEND;TZID=America/New_York:20171116T130000
DTSTAMP:20260424T130821
CREATED:20170619T152738Z
LAST-MODIFIED:20170619T152738Z
UID:519-1510833600-1510837200@www.ctnnortheastnode.org
SUMMARY:Science Series: Mary Brunette\, MD
DESCRIPTION:Smoking cessation in addiction treatment\nThe Science Series webinars are presented on a bi-monthly academic calendar during the lunch hour. Presentations can be viewed either in person or via WebEx (see our Science Series page for online viewing link). We do provide lunch for the in-person participants.
URL:https://www.ctnnortheastnode.org/event/science-series-mary-brunette-md/
LOCATION:Northeast Node Headquarters\, 46 Centerra Parkway\, Suite 315\, Lebanon\, NH\, 03766\, United States
CATEGORIES:Northeast Node
END:VEVENT
BEGIN:VEVENT
DTSTART;TZID=America/New_York:20171129T150000
DTEND;TZID=America/New_York:20171129T160000
DTSTAMP:20260424T130821
CREATED:20170727T150943Z
LAST-MODIFIED:20170727T150943Z
UID:554-1511967600-1511971200@www.ctnnortheastnode.org
SUMMARY:NAADAC Webinar: Special Considerations in Substance Use Disorder Habilitation Treatment
DESCRIPTION:Habilitation clients are creating a framework for recovery for the first time. Many deficits in the areas of knowledge\, critical thinking\, values\, and emotional literacy are present. Constructing a recovery plan requires psycho-education\, role playing\, testing\, building social support\, treating institutionalization\, and a clear model of care for core clinical issues (e.g.\, power and control\, excitement\, crisis\, and chaos\, rigid defense mechanisms\, emotional manipulation\, social support etc.). This session focuses on aspects unique to this particular client and strategies to facilitate emotional growth in recovering. \nLearning Objectives\n\nPractice a framework that addresses the many aspects of “arrested development.\nLearn strategies with utilizing “learning experiences” as a method of intervention.\nIdentify a list of core clinical issues and how to address these issues.
URL:https://www.ctnnortheastnode.org/event/naadac-webinar-special-considerations-substance-use-disorder-habilitation-treatment/
CATEGORIES:Other Related
END:VEVENT
END:VCALENDAR