BEGIN:VCALENDAR
VERSION:2.0
PRODID:-//The National Drug Abuse Treatment Clinical Trials Network - Northeast Node - ECPv6.15.20//NONSGML v1.0//EN
CALSCALE:GREGORIAN
METHOD:PUBLISH
X-WR-CALNAME:The National Drug Abuse Treatment Clinical Trials Network - Northeast Node
X-ORIGINAL-URL:https://www.ctnnortheastnode.org
X-WR-CALDESC:Events for The National Drug Abuse Treatment Clinical Trials Network - Northeast Node
REFRESH-INTERVAL;VALUE=DURATION:PT1H
X-Robots-Tag:noindex
X-PUBLISHED-TTL:PT1H
BEGIN:VTIMEZONE
TZID:America/New_York
BEGIN:DAYLIGHT
TZOFFSETFROM:-0500
TZOFFSETTO:-0400
TZNAME:EDT
DTSTART:20160313T070000
END:DAYLIGHT
BEGIN:STANDARD
TZOFFSETFROM:-0400
TZOFFSETTO:-0500
TZNAME:EST
DTSTART:20161106T060000
END:STANDARD
BEGIN:DAYLIGHT
TZOFFSETFROM:-0500
TZOFFSETTO:-0400
TZNAME:EDT
DTSTART:20170312T070000
END:DAYLIGHT
BEGIN:STANDARD
TZOFFSETFROM:-0400
TZOFFSETTO:-0500
TZNAME:EST
DTSTART:20171105T060000
END:STANDARD
BEGIN:DAYLIGHT
TZOFFSETFROM:-0500
TZOFFSETTO:-0400
TZNAME:EDT
DTSTART:20180311T070000
END:DAYLIGHT
BEGIN:STANDARD
TZOFFSETFROM:-0400
TZOFFSETTO:-0500
TZNAME:EST
DTSTART:20181104T060000
END:STANDARD
END:VTIMEZONE
BEGIN:VEVENT
DTSTART;TZID=America/New_York:20171002T120000
DTEND;TZID=America/New_York:20171002T133000
DTSTAMP:20260424T145538
CREATED:20170913T154650Z
LAST-MODIFIED:20170913T154650Z
UID:594-1506945600-1506951000@www.ctnnortheastnode.org
SUMMARY:CSAT/CTN Webinar: Digital Therapeutics for Substance Use Disorders
DESCRIPTION:“Digital Therapeutics for Substance Use Disorders: The State of the Science and Opportunities for Implementation in Substance Use Disorder Care” \nThis webinar is the fourth in a series of collaborative webinars between the CTN and CSAT. In this webinar\, an overview of the state of the science of applying digital therapeutics (e.g.\, mobile\, web-based therapeutic tools) to substance use disorder (SUD) care will be presented (30 minutes). CSAT will provide an overview of their portfolio on the intersection of digital technology and SUDs\, and CSAT grantees will provide a few examples of this work (30 minutes). The presentations will be followed by a 30 minute discussion with meeting participants on challenges and opportunities in sustainable implementation of digital therapeutics in SUD care. \nJoin the webinar here (type your name and select “Enter Room”)\nPlease dial into the audio portion of the webinar:\nDial in: 1-877-226-9607\nEnter Passcode: 9260084283#
URL:https://www.ctnnortheastnode.org/event/csatctn-webinar-digital-therapeutics-substance-use-disorders/
CATEGORIES:Clinical Trials Network
END:VEVENT
BEGIN:VEVENT
DTSTART;TZID=America/New_York:20171011T150000
DTEND;TZID=America/New_York:20171011T170000
DTSTAMP:20260424T145538
CREATED:20170727T151100Z
LAST-MODIFIED:20170727T151100Z
UID:551-1507734000-1507741200@www.ctnnortheastnode.org
SUMMARY:NAADAC Webinar: Influences on Addiction and Mental Health in the LGBT Population
DESCRIPTION:The lesbian\, gay\, bisexual\, and transgender (LGBT) communities are reported to have higher incidences of substance misuse. This webinar will focus on the influences on the LGBT population that lead to higher rates of using substances as a coping skill\, provide a self-assessment of your preparation for providing services to LGBT clients\, and examine your practices for LGBT affirmative practices. Topics include the societal influences of minority stress\, micro-aggressions\, victimization\, religion\, visibility management\, and invisibility management. Ways to gain knowledge about LGBT issues will allow participants to explore their own biases that influence their work with LGBT clients. The webinar will conclude with best practices for providing affirmative services to LGBT clients. \nLearning Objectives\n\nIdentify societal\, family\, internal\, and clinical influences on the LGBT population.\nAsses their preparation for providing services to members of the LGBT community.\nExamine and evaluate their individual and agency practices for LGBT affirmative practices.\n\n 
URL:https://www.ctnnortheastnode.org/event/naadac-webinar-influences-addiction-mental-health-lgbt-population/
CATEGORIES:Other Related
END:VEVENT
END:VCALENDAR